BEGIN:VCALENDAR
VERSION:2.0
PRODID:-//Limburgse Kunstkring - ECPv6.15.20//NONSGML v1.0//EN
CALSCALE:GREGORIAN
METHOD:PUBLISH
X-WR-CALNAME:Limburgse Kunstkring
X-ORIGINAL-URL:https://limburgsekunstkring.nl
X-WR-CALDESC:Evenementen voor Limburgse Kunstkring
REFRESH-INTERVAL;VALUE=DURATION:PT1H
X-Robots-Tag:noindex
X-PUBLISHED-TTL:PT1H
BEGIN:VTIMEZONE
TZID:Europe/Amsterdam
BEGIN:DAYLIGHT
TZOFFSETFROM:+0100
TZOFFSETTO:+0200
TZNAME:CEST
DTSTART:20240331T010000
END:DAYLIGHT
BEGIN:STANDARD
TZOFFSETFROM:+0200
TZOFFSETTO:+0100
TZNAME:CET
DTSTART:20241027T010000
END:STANDARD
BEGIN:DAYLIGHT
TZOFFSETFROM:+0100
TZOFFSETTO:+0200
TZNAME:CEST
DTSTART:20250330T010000
END:DAYLIGHT
BEGIN:STANDARD
TZOFFSETFROM:+0200
TZOFFSETTO:+0100
TZNAME:CET
DTSTART:20251026T010000
END:STANDARD
BEGIN:DAYLIGHT
TZOFFSETFROM:+0100
TZOFFSETTO:+0200
TZNAME:CEST
DTSTART:20260329T010000
END:DAYLIGHT
BEGIN:STANDARD
TZOFFSETFROM:+0200
TZOFFSETTO:+0100
TZNAME:CET
DTSTART:20261025T010000
END:STANDARD
END:VTIMEZONE
BEGIN:VEVENT
DTSTART;TZID=Europe/Amsterdam:20251113T130000
DTEND;TZID=Europe/Amsterdam:20251231T170000
DTSTAMP:20260424T155812
CREATED:20251111T135801Z
LAST-MODIFIED:20251112T090438Z
UID:6102-1763038800-1767200400@limburgsekunstkring.nl
SUMMARY:Ena Rutten exposeert nieuwe werken in Galerie RRMND
DESCRIPTION:Ena Rutten exposeert vanaf 13 november tot januari 2025 in Galerie RRMND. Een viertal grote werken van haar zijn te zien in deze sfeervolle galerie. \nDeze galerie heeft een mooie lichtinval en is gelegen in het industriële gebouw “Weerstand”\, Bredeweg 10 in Roermond. \nDe openingstijden zijn: donderdag t/m zondag van 13.00 tot 17.00 uur.
URL:https://limburgsekunstkring.nl/agenda/ena-rutten-exposeert-nieuwe-werken-in-galerie-rrmnd/
LOCATION:Galerie RRMND\, Bredeweg 10\, Roermond\, 6042 GG\, Netherlands
CATEGORIES:Expositie
ATTACH;FMTTYPE=image/jpeg:https://limburgsekunstkring.nl/wp-content/uploads/2025/11/591-molds-6.jpg
END:VEVENT
END:VCALENDAR